BEGIN:VCALENDAR
VERSION:2.0
PRODID:-//Birches Head Academy - ECPv6.15.20//NONSGML v1.0//EN
CALSCALE:GREGORIAN
METHOD:PUBLISH
X-ORIGINAL-URL:https://bircheshead.org.uk
X-WR-CALDESC:Events for Birches Head Academy
REFRESH-INTERVAL;VALUE=DURATION:PT1H
X-Robots-Tag:noindex
X-PUBLISHED-TTL:PT1H
BEGIN:VTIMEZONE
TZID:UTC
BEGIN:STANDARD
TZOFFSETFROM:+0000
TZOFFSETTO:+0000
TZNAME:UTC
DTSTART:20230101T000000
END:STANDARD
END:VTIMEZONE
BEGIN:VEVENT
DTSTART;VALUE=DATE:20240607
DTEND;VALUE=DATE:20240608
DTSTAMP:20260421T094030
CREATED:20240202T141555Z
LAST-MODIFIED:20240202T141555Z
UID:13317-1717718400-1717804799@bircheshead.org.uk
SUMMARY:DofE Bronze Training Expedition
DESCRIPTION:
URL:https://bircheshead.org.uk/event/dofe-bronze-training-expedition/
ATTACH;FMTTYPE=image/jpeg:https://bircheshead.org.uk/wp-content/uploads/2024/02/FF-BA-_CW_0747.jpg
END:VEVENT
BEGIN:VEVENT
DTSTART;VALUE=DATE:20240620
DTEND;VALUE=DATE:20240621
DTSTAMP:20260421T094030
CREATED:20240202T141730Z
LAST-MODIFIED:20240202T141730Z
UID:13320-1718841600-1718927999@bircheshead.org.uk
SUMMARY:Rivers Trip - Derbyshire
DESCRIPTION:
URL:https://bircheshead.org.uk/event/rivers-trip-derbyshire/
ATTACH;FMTTYPE=image/jpeg:https://bircheshead.org.uk/wp-content/uploads/2024/02/FF-BA-_CW_8429.jpg
END:VEVENT
BEGIN:VEVENT
DTSTART;VALUE=DATE:20240621
DTEND;VALUE=DATE:20240622
DTSTAMP:20260421T094030
CREATED:20240202T142033Z
LAST-MODIFIED:20240202T142033Z
UID:13326-1718928000-1719014399@bircheshead.org.uk
SUMMARY:Castleton Trip
DESCRIPTION:
URL:https://bircheshead.org.uk/event/castleton-trip/
ATTACH;FMTTYPE=image/jpeg:https://bircheshead.org.uk/wp-content/uploads/2024/02/FF-BA-_CW_8368.jpg
END:VEVENT
BEGIN:VEVENT
DTSTART;VALUE=DATE:20240624
DTEND;VALUE=DATE:20240625
DTSTAMP:20260421T094030
CREATED:20240202T142430Z
LAST-MODIFIED:20240202T142430Z
UID:13329-1719187200-1719273599@bircheshead.org.uk
SUMMARY:Assessment Week Exam Fortnight
DESCRIPTION:
URL:https://bircheshead.org.uk/event/assessment-week-exam-fortnight/
ATTACH;FMTTYPE=image/jpeg:https://bircheshead.org.uk/wp-content/uploads/2024/02/FF-BA-_CW_9690.jpg
END:VEVENT
BEGIN:VEVENT
DTSTART;VALUE=DATE:20240627
DTEND;VALUE=DATE:20240628
DTSTAMP:20260421T094030
CREATED:20240202T142545Z
LAST-MODIFIED:20240202T142545Z
UID:13332-1719446400-1719532799@bircheshead.org.uk
SUMMARY:Year 11 Prom
DESCRIPTION:
URL:https://bircheshead.org.uk/event/year-11-prom/
ATTACH;FMTTYPE=image/jpeg:https://bircheshead.org.uk/wp-content/uploads/2024/02/FF-BA-_CW_9129.jpg
END:VEVENT
BEGIN:VEVENT
DTSTART;VALUE=DATE:20240628
DTEND;VALUE=DATE:20240629
DTSTAMP:20260421T094030
CREATED:20240202T142720Z
LAST-MODIFIED:20240202T142720Z
UID:13335-1719532800-1719619199@bircheshead.org.uk
SUMMARY:DofE Bronze Qualifying Expedition
DESCRIPTION:
URL:https://bircheshead.org.uk/event/dofe-bronze-qualifying-expedition/
ATTACH;FMTTYPE=image/jpeg:https://bircheshead.org.uk/wp-content/uploads/2024/02/FF-BA-_CW_0550.jpg
END:VEVENT
END:VCALENDAR