BEGIN:VCALENDAR
VERSION:2.0
PRODID:-//Birches Head Academy - ECPv6.15.20//NONSGML v1.0//EN
CALSCALE:GREGORIAN
METHOD:PUBLISH
X-ORIGINAL-URL:https://bircheshead.org.uk
X-WR-CALDESC:Events for Birches Head Academy
REFRESH-INTERVAL;VALUE=DURATION:PT1H
X-Robots-Tag:noindex
X-PUBLISHED-TTL:PT1H
BEGIN:VTIMEZONE
TZID:UTC
BEGIN:STANDARD
TZOFFSETFROM:+0000
TZOFFSETTO:+0000
TZNAME:UTC
DTSTART:20230101T000000
END:STANDARD
END:VTIMEZONE
BEGIN:VEVENT
DTSTART;VALUE=DATE:20240307
DTEND;VALUE=DATE:20240308
DTSTAMP:20260421T135046
CREATED:20240202T135334Z
LAST-MODIFIED:20240202T135334Z
UID:13287-1709769600-1709855999@bircheshead.org.uk
SUMMARY:World Book Day
DESCRIPTION:
URL:https://bircheshead.org.uk/event/world-book-day-2/
ATTACH;FMTTYPE=image/jpeg:https://bircheshead.org.uk/wp-content/uploads/2024/02/FF-BA-_CW_9530.jpg
END:VEVENT
BEGIN:VEVENT
DTSTART;TZID=UTC:20240307T163000
DTEND;TZID=UTC:20240307T190000
DTSTAMP:20260421T135046
CREATED:20240202T135223Z
LAST-MODIFIED:20240228T113305Z
UID:13284-1709829000-1709838000@bircheshead.org.uk
SUMMARY:Year 9 Options Evening
DESCRIPTION:Following our week of ‘careers events’ for Year 9 and to support you and your child in making an informed decision regarding their option choices. We would like to invite you to our Option Evening on Thursday 7th March 2024\, 4.30pm-7.00pm. On the evening there will be a brief presentation in the main hall to explain the option process followed by an opportunity to speak with subject leaders about the courses. Our local colleges and career advice services will also be available for you to talk to during the evening. \nIn school\, we have put a detailed and considered plan in place to ensure that your child will have all the knowledge and information to enable them to make appropriate choices for their future success including: \n\nAssembly\nPSHE\nSubject talks\nMeeting with a school leader\n\nTo attend the Options Evening on Thursday 7th March 2024\, we respectfully ask that you book your preferred attendance time on the link provided below. When you click onto the link\, it will allow you to book 1 family ticket at one of the following start times: \n\n4:30pm\n5:45pm \n\nClick to book Options Evening   \nhttps://www.eventbrite.com/e/year-9-options-evening-2024-tickets-529414110857 \nIf you require any further information\, please contact the main office via phone on 01782 233595 or email Info@bircheshead.org.uk.
URL:https://bircheshead.org.uk/event/year-9-options-evening-2/
ATTACH;FMTTYPE=image/jpeg:https://bircheshead.org.uk/wp-content/uploads/2024/02/FF-BA-_CW_8275.jpg
END:VEVENT
BEGIN:VEVENT
DTSTART;VALUE=DATE:20240311
DTEND;VALUE=DATE:20240312
DTSTAMP:20260421T135046
CREATED:20240202T135505Z
LAST-MODIFIED:20240202T135505Z
UID:13290-1710115200-1710201599@bircheshead.org.uk
SUMMARY:Celebrating Our Diversity - Ramadan  / Eid
DESCRIPTION:
URL:https://bircheshead.org.uk/event/celebrating-our-diversity-ramadan-eid/
ATTACH;FMTTYPE=image/jpeg:https://bircheshead.org.uk/wp-content/uploads/2024/02/FF-BA-_CW_9272.jpg
END:VEVENT
BEGIN:VEVENT
DTSTART;VALUE=DATE:20240318
DTEND;VALUE=DATE:20240319
DTSTAMP:20260421T135046
CREATED:20240202T135828Z
LAST-MODIFIED:20240202T135828Z
UID:13293-1710720000-1710806399@bircheshead.org.uk
SUMMARY:Rewards Assemblies
DESCRIPTION:
URL:https://bircheshead.org.uk/event/rewards-assemblies/
ATTACH;FMTTYPE=image/jpeg:https://bircheshead.org.uk/wp-content/uploads/2024/02/FF-BA-_CW_9649.jpg
END:VEVENT
BEGIN:VEVENT
DTSTART;VALUE=DATE:20240318
DTEND;VALUE=DATE:20240319
DTSTAMP:20260421T135046
CREATED:20240202T140648Z
LAST-MODIFIED:20240202T140648Z
UID:13302-1710720000-1710806399@bircheshead.org.uk
SUMMARY:Student Council Assembly
DESCRIPTION:
URL:https://bircheshead.org.uk/event/student-council-assembly/
ATTACH;FMTTYPE=image/jpeg:https://bircheshead.org.uk/wp-content/uploads/2024/02/FF-BA-_CW_8472.jpg
END:VEVENT
BEGIN:VEVENT
DTSTART;VALUE=DATE:20240321
DTEND;VALUE=DATE:20240322
DTSTAMP:20260421T135046
CREATED:20240202T140000Z
LAST-MODIFIED:20240202T140000Z
UID:13296-1710979200-1711065599@bircheshead.org.uk
SUMMARY:World Poetry Day
DESCRIPTION:
URL:https://bircheshead.org.uk/event/world-poetry-day-2/
ATTACH;FMTTYPE=image/jpeg:https://bircheshead.org.uk/wp-content/uploads/2024/02/FF-BA-_CW_8802.jpg
END:VEVENT
BEGIN:VEVENT
DTSTART;VALUE=DATE:20240322
DTEND;VALUE=DATE:20240323
DTSTAMP:20260421T135046
CREATED:20240322T140454Z
LAST-MODIFIED:20240202T141013Z
UID:13299-1711065600-1711151999@bircheshead.org.uk
SUMMARY:Peak District Trip
DESCRIPTION:
URL:https://bircheshead.org.uk/event/peak-district-trip/
ATTACH;FMTTYPE=image/jpeg:https://bircheshead.org.uk/wp-content/uploads/2024/02/FF-BA-_CW_8442.jpg
END:VEVENT
BEGIN:VEVENT
DTSTART;TZID=UTC:20240325T080000
DTEND;TZID=UTC:20240405T170000
DTSTAMP:20260421T135046
CREATED:20240202T140809Z
LAST-MODIFIED:20240202T140809Z
UID:13305-1711353600-1712336400@bircheshead.org.uk
SUMMARY:Easter Break
DESCRIPTION:
URL:https://bircheshead.org.uk/event/easter-break-2/
ATTACH;FMTTYPE=image/jpeg:https://bircheshead.org.uk/wp-content/uploads/2024/02/FF-BA-_CW_0720.jpg
END:VEVENT
END:VCALENDAR