BEGIN:VCALENDAR
VERSION:2.0
PRODID:-//Birches Head Academy - ECPv6.15.20//NONSGML v1.0//EN
CALSCALE:GREGORIAN
METHOD:PUBLISH
X-ORIGINAL-URL:https://bircheshead.org.uk
X-WR-CALDESC:Events for Birches Head Academy
REFRESH-INTERVAL;VALUE=DURATION:PT1H
X-Robots-Tag:noindex
X-PUBLISHED-TTL:PT1H
BEGIN:VTIMEZONE
TZID:UTC
BEGIN:STANDARD
TZOFFSETFROM:+0000
TZOFFSETTO:+0000
TZNAME:UTC
DTSTART:20220101T000000
END:STANDARD
END:VTIMEZONE
BEGIN:VEVENT
DTSTART;VALUE=DATE:20231225
DTEND;VALUE=DATE:20240106
DTSTAMP:20260421T170643
CREATED:20231106T091524Z
LAST-MODIFIED:20231106T091524Z
UID:12867-1703462400-1704499199@bircheshead.org.uk
SUMMARY:Christmas Break
DESCRIPTION:
URL:https://bircheshead.org.uk/event/christmas-break/
ATTACH;FMTTYPE=image/jpeg:https://bircheshead.org.uk/wp-content/uploads/2023/02/FF-BA-_CW_8996.jpg
END:VEVENT
BEGIN:VEVENT
DTSTART;VALUE=DATE:20240109
DTEND;VALUE=DATE:20240110
DTSTAMP:20260421T170643
CREATED:20231219T100123Z
LAST-MODIFIED:20231219T100123Z
UID:13072-1704758400-1704844799@bircheshead.org.uk
SUMMARY:Pupils Return
DESCRIPTION:
URL:https://bircheshead.org.uk/event/pupils-return/
ATTACH;FMTTYPE=image/jpeg:https://bircheshead.org.uk/wp-content/uploads/2023/02/FF-BA-_CW_9594.jpg
END:VEVENT
BEGIN:VEVENT
DTSTART;VALUE=DATE:20240119
DTEND;VALUE=DATE:20240120
DTSTAMP:20260421T170643
CREATED:20231219T100252Z
LAST-MODIFIED:20240115T151258Z
UID:13074-1705622400-1705708799@bircheshead.org.uk
SUMMARY:Year 7 & 10 Review Day
DESCRIPTION:
URL:https://bircheshead.org.uk/event/year-7-10-review-day-2/
ATTACH;FMTTYPE=image/jpeg:https://bircheshead.org.uk/wp-content/uploads/2023/02/FF-BA-_CW_8360.jpg
END:VEVENT
END:VCALENDAR