BEGIN:VCALENDAR
VERSION:2.0
PRODID:-//Birches Head Academy - ECPv6.15.20//NONSGML v1.0//EN
CALSCALE:GREGORIAN
METHOD:PUBLISH
X-ORIGINAL-URL:https://bircheshead.org.uk
X-WR-CALDESC:Events for Birches Head Academy
REFRESH-INTERVAL;VALUE=DURATION:PT1H
X-Robots-Tag:noindex
X-PUBLISHED-TTL:PT1H
BEGIN:VTIMEZONE
TZID:UTC
BEGIN:STANDARD
TZOFFSETFROM:+0000
TZOFFSETTO:+0000
TZNAME:UTC
DTSTART:20220101T000000
END:STANDARD
END:VTIMEZONE
BEGIN:VEVENT
DTSTART;VALUE=DATE:20230907
DTEND;VALUE=DATE:20230908
DTSTAMP:20260421T225250
CREATED:20230821T114143Z
LAST-MODIFIED:20230821T114209Z
UID:12429-1694044800-1694131199@bircheshead.org.uk
SUMMARY:Year 7 Start School
DESCRIPTION:
URL:https://bircheshead.org.uk/event/year-7-start-school/
ATTACH;FMTTYPE=image/jpeg:https://bircheshead.org.uk/wp-content/uploads/2023/02/FF-BA-_CW_9014-ink-removed-scaled.jpg
END:VEVENT
BEGIN:VEVENT
DTSTART;VALUE=DATE:20230908
DTEND;VALUE=DATE:20230909
DTSTAMP:20260421T225250
CREATED:20230821T114306Z
LAST-MODIFIED:20230821T114306Z
UID:12432-1694131200-1694217599@bircheshead.org.uk
SUMMARY:Whole School Returns
DESCRIPTION:
URL:https://bircheshead.org.uk/event/whole-school-returns/
ATTACH;FMTTYPE=image/jpeg:https://bircheshead.org.uk/wp-content/uploads/2023/02/FF-BA-_CW_8996.jpg
END:VEVENT
BEGIN:VEVENT
DTSTART;TZID=UTC:20230914T180000
DTEND;TZID=UTC:20230914T200000
DTSTAMP:20260421T225250
CREATED:20230821T114506Z
LAST-MODIFIED:20230908T134435Z
UID:12436-1694714400-1694721600@bircheshead.org.uk
SUMMARY:Year 7 Settling in Evening
DESCRIPTION:As part of the transition to Birches Head Academy we would like to invite you to our Year 7 Settling in Evening\, which is being held on Thursday 14th September to discuss how proud we are of the pupil’s and to explain the ‘Birches Head Way’\, how we operate and how we have a consistent culture of high expectations. The first presentation will begin at 6pm in the main hall and the second presentation will begin at 6.45pm in the main hall. \nSee the full letter here 
URL:https://bircheshead.org.uk/event/open-mornings-2/
ATTACH;FMTTYPE=image/jpeg:https://bircheshead.org.uk/wp-content/uploads/2023/02/FF-BA-_CW_8832.jpg
END:VEVENT
BEGIN:VEVENT
DTSTART;TZID=UTC:20230919T084500
DTEND;TZID=UTC:20230919T101500
DTSTAMP:20260421T225250
CREATED:20230918T153841Z
LAST-MODIFIED:20230918T153841Z
UID:12615-1695113100-1695118500@bircheshead.org.uk
SUMMARY:Year 5 & 6 Open Mornings
DESCRIPTION:
URL:https://bircheshead.org.uk/event/year-5-6-open-mornings/
ATTACH;FMTTYPE=image/jpeg:https://bircheshead.org.uk/wp-content/uploads/2023/02/FF-BA-_CW_9204.jpg
END:VEVENT
BEGIN:VEVENT
DTSTART;TZID=UTC:20230920T084500
DTEND;TZID=UTC:20230920T101500
DTSTAMP:20260421T225250
CREATED:20230918T153948Z
LAST-MODIFIED:20230918T154014Z
UID:12618-1695199500-1695204900@bircheshead.org.uk
SUMMARY:Year 5 & 6 Open Morning
DESCRIPTION:
URL:https://bircheshead.org.uk/event/year-5-6-open-morning/
ATTACH;FMTTYPE=image/jpeg:https://bircheshead.org.uk/wp-content/uploads/2023/02/FF-BA-_CW_8996.jpg
END:VEVENT
BEGIN:VEVENT
DTSTART;TZID=UTC:20230920T180000
DTEND;TZID=UTC:20230920T200000
DTSTAMP:20260421T225250
CREATED:20230821T114404Z
LAST-MODIFIED:20230908T102803Z
UID:12434-1695232800-1695240000@bircheshead.org.uk
SUMMARY:Year 5 & 6 Open Evening
DESCRIPTION:
URL:https://bircheshead.org.uk/event/year-5-6-open-evening/
ATTACH;FMTTYPE=image/jpeg:https://bircheshead.org.uk/wp-content/uploads/2023/02/FF-BA-_CW_9762-e1677061800594.jpg
END:VEVENT
END:VCALENDAR