BEGIN:VCALENDAR
VERSION:2.0
PRODID:-//Birches Head Academy - ECPv6.15.20//NONSGML v1.0//EN
CALSCALE:GREGORIAN
METHOD:PUBLISH
X-WR-CALNAME:Birches Head Academy
X-ORIGINAL-URL:https://bircheshead.org.uk
X-WR-CALDESC:Events for Birches Head Academy
REFRESH-INTERVAL;VALUE=DURATION:PT1H
X-Robots-Tag:noindex
X-PUBLISHED-TTL:PT1H
BEGIN:VTIMEZONE
TZID:UTC
BEGIN:STANDARD
TZOFFSETFROM:+0000
TZOFFSETTO:+0000
TZNAME:UTC
DTSTART:20220101T000000
END:STANDARD
END:VTIMEZONE
BEGIN:VEVENT
DTSTART;VALUE=DATE:20230529
DTEND;VALUE=DATE:20230603
DTSTAMP:20260422T031131
CREATED:20230104T112146Z
LAST-MODIFIED:20230104T112146Z
UID:10572-1685318400-1685750399@bircheshead.org.uk
SUMMARY:Half Term
DESCRIPTION:
URL:https://bircheshead.org.uk/event/half-term-7/
ATTACH;FMTTYPE=image/jpeg:https://bircheshead.org.uk/wp-content/uploads/2022/12/BHA_1.jpg
END:VEVENT
BEGIN:VEVENT
DTSTART;VALUE=DATE:20230614
DTEND;VALUE=DATE:20230615
DTSTAMP:20260422T031131
CREATED:20230104T112911Z
LAST-MODIFIED:20230104T112911Z
UID:10574-1686700800-1686787199@bircheshead.org.uk
SUMMARY:Year 10 Castleton Trip
DESCRIPTION:
URL:https://bircheshead.org.uk/event/year-10-castleton-trip/
ATTACH;FMTTYPE=image/jpeg:https://bircheshead.org.uk/wp-content/uploads/2022/12/FF-BA-_CW_9762.jpg
END:VEVENT
BEGIN:VEVENT
DTSTART;VALUE=DATE:20230616
DTEND;VALUE=DATE:20230618
DTSTAMP:20260422T031131
CREATED:20230104T113057Z
LAST-MODIFIED:20230104T113057Z
UID:10576-1686873600-1687046399@bircheshead.org.uk
SUMMARY:Year 9 Duke of Edinburgh Practice
DESCRIPTION:
URL:https://bircheshead.org.uk/event/year-9-duke-of-edinburgh-practice-2/
ATTACH;FMTTYPE=image/jpeg:https://bircheshead.org.uk/wp-content/uploads/2022/12/FF-BA-_CW_9542.jpg
END:VEVENT
BEGIN:VEVENT
DTSTART;VALUE=DATE:20230623
DTEND;VALUE=DATE:20230624
DTSTAMP:20260422T031131
CREATED:20230104T113258Z
LAST-MODIFIED:20230104T113258Z
UID:10581-1687478400-1687564799@bircheshead.org.uk
SUMMARY:Year 7 Reservoir Trip
DESCRIPTION:
URL:https://bircheshead.org.uk/event/year-7-reservoir-trip/
ATTACH;FMTTYPE=image/jpeg:https://bircheshead.org.uk/wp-content/uploads/2022/12/FF-BA-_CW_8438-scaled.jpg
END:VEVENT
BEGIN:VEVENT
DTSTART;VALUE=DATE:20230629
DTEND;VALUE=DATE:20230630
DTSTAMP:20260422T031131
CREATED:20230104T113158Z
LAST-MODIFIED:20230629T091947Z
UID:10578-1687996800-1688083199@bircheshead.org.uk
SUMMARY:Awards Evening
DESCRIPTION:
URL:https://bircheshead.org.uk/event/awards-evening/
ATTACH;FMTTYPE=image/jpeg:https://bircheshead.org.uk/wp-content/uploads/2022/12/FF-BA-_CW_8802.jpg
END:VEVENT
END:VCALENDAR