BEGIN:VCALENDAR
VERSION:2.0
PRODID:-//Birches Head Academy - ECPv6.15.20//NONSGML v1.0//EN
CALSCALE:GREGORIAN
METHOD:PUBLISH
X-WR-CALNAME:Birches Head Academy
X-ORIGINAL-URL:https://bircheshead.org.uk
X-WR-CALDESC:Events for Birches Head Academy
REFRESH-INTERVAL;VALUE=DURATION:PT1H
X-Robots-Tag:noindex
X-PUBLISHED-TTL:PT1H
BEGIN:VTIMEZONE
TZID:UTC
BEGIN:STANDARD
TZOFFSETFROM:+0000
TZOFFSETTO:+0000
TZNAME:UTC
DTSTART:20220101T000000
END:STANDARD
END:VTIMEZONE
BEGIN:VEVENT
DTSTART;VALUE=DATE:20230403
DTEND;VALUE=DATE:20230415
DTSTAMP:20260422T060105
CREATED:20230104T103918Z
LAST-MODIFIED:20230104T103918Z
UID:10564-1680480000-1681516799@bircheshead.org.uk
SUMMARY:Easter Break
DESCRIPTION:
URL:https://bircheshead.org.uk/event/easter-break/
ATTACH;FMTTYPE=image/jpeg:https://bircheshead.org.uk/wp-content/uploads/2022/12/FF-BA-_CW_9542.jpg
END:VEVENT
BEGIN:VEVENT
DTSTART;VALUE=DATE:20230420
DTEND;VALUE=DATE:20230421
DTSTAMP:20260422T060105
CREATED:20230314T151137Z
LAST-MODIFIED:20230314T153648Z
UID:11857-1681948800-1682035199@bircheshead.org.uk
SUMMARY:Steel Pan Drum Workshop Day at Birches Head Academy
DESCRIPTION:As part of our mission to provide our students with a world-class education. We want to offer our students the best possible opportunities to explore their curriculum subjects outside of the classroom as well as in their timetabled lessons. \nIn Music this year\, we have purchased some Steel Pan drums that are commonly used in Caribbean music. We are also incredibly lucky to be welcoming Red Panda Entertainment to school on April 20th 2023\, to lead a workshop with a group of 24 students who will learn to play this wonderful instrument and learn about its history and the music it is designed to play. This will lead to some groups of students who can then perform in school events such as assemblies\, showcases and open events and showcase their brilliant new skills. \nAs this is such a prestigious opportunity\, we would like students to apply to participate in this event\, explaining why they would like to participate in this fantastic opportunity. To apply\, students will need write a short paragraph about why they are interested in learning more about Caribbean music and why they feel they should be considered for a place on the workshop and return this to Miss Mooney in MU2. Spaces are limited to 24 students so if we receive more applications than this\, we may invite students to interview for this opportunity.
URL:https://bircheshead.org.uk/event/steel-pan-drum-workshop-day-at-birches-head-academy/
LOCATION:Birches Head Academy\, Birches Head Academy\, Stoke-on-Trent\, ST2 8DD
ATTACH;FMTTYPE=image/jpeg:https://bircheshead.org.uk/wp-content/uploads/2022/04/Birches-Head-Academy-20200316-799A7981-Pano-028.jpg
END:VEVENT
END:VCALENDAR