BEGIN:VCALENDAR
VERSION:2.0
PRODID:-//Birches Head Academy - ECPv6.15.20//NONSGML v1.0//EN
CALSCALE:GREGORIAN
METHOD:PUBLISH
X-ORIGINAL-URL:https://bircheshead.org.uk
X-WR-CALDESC:Events for Birches Head Academy
REFRESH-INTERVAL;VALUE=DURATION:PT1H
X-Robots-Tag:noindex
X-PUBLISHED-TTL:PT1H
BEGIN:VTIMEZONE
TZID:UTC
BEGIN:STANDARD
TZOFFSETFROM:+0000
TZOFFSETTO:+0000
TZNAME:UTC
DTSTART:20220101T000000
END:STANDARD
END:VTIMEZONE
BEGIN:VEVENT
DTSTART;VALUE=DATE:20230209
DTEND;VALUE=DATE:20230210
DTSTAMP:20260422T090142
CREATED:20230104T103314Z
LAST-MODIFIED:20230104T103314Z
UID:10554-1675900800-1675987199@bircheshead.org.uk
SUMMARY:Year 11 Review Evening
DESCRIPTION:
URL:https://bircheshead.org.uk/event/year-11-review-evening/
ATTACH;FMTTYPE=image/jpeg:https://bircheshead.org.uk/wp-content/uploads/2022/12/FF-BA-_CW_9542.jpg
END:VEVENT
BEGIN:VEVENT
DTSTART;VALUE=DATE:20230213
DTEND;VALUE=DATE:20230214
DTSTAMP:20260422T090142
CREATED:20230104T103414Z
LAST-MODIFIED:20230104T103414Z
UID:10556-1676246400-1676332799@bircheshead.org.uk
SUMMARY:Year 9 Business and Enterprise Day
DESCRIPTION:
URL:https://bircheshead.org.uk/event/year-9-business-and-enterprise-day/
ATTACH;FMTTYPE=image/jpeg:https://bircheshead.org.uk/wp-content/uploads/2022/12/FF-BA-_CW_8802.jpg
END:VEVENT
BEGIN:VEVENT
DTSTART;VALUE=DATE:20230220
DTEND;VALUE=DATE:20230225
DTSTAMP:20260422T090142
CREATED:20221230T111254Z
LAST-MODIFIED:20230222T172121Z
UID:10534-1676851200-1677283199@bircheshead.org.uk
SUMMARY:Half Term
DESCRIPTION:
URL:https://bircheshead.org.uk/event/half-term-6/
ATTACH;FMTTYPE=image/jpeg:https://bircheshead.org.uk/wp-content/uploads/2023/02/FF-BA-_CW_8832.jpg
END:VEVENT
END:VCALENDAR