BEGIN:VCALENDAR
VERSION:2.0
PRODID:-//Birches Head Academy - ECPv6.15.20//NONSGML v1.0//EN
CALSCALE:GREGORIAN
METHOD:PUBLISH
X-WR-CALNAME:Birches Head Academy
X-ORIGINAL-URL:https://bircheshead.org.uk
X-WR-CALDESC:Events for Birches Head Academy
REFRESH-INTERVAL;VALUE=DURATION:PT1H
X-Robots-Tag:noindex
X-PUBLISHED-TTL:PT1H
BEGIN:VTIMEZONE
TZID:UTC
BEGIN:STANDARD
TZOFFSETFROM:+0000
TZOFFSETTO:+0000
TZNAME:UTC
DTSTART:20210101T000000
END:STANDARD
END:VTIMEZONE
BEGIN:VEVENT
DTSTART;VALUE=DATE:20221212
DTEND;VALUE=DATE:20221213
DTSTAMP:20260422T115537
CREATED:20221010T134627Z
LAST-MODIFIED:20221010T134627Z
UID:9849-1670803200-1670889599@bircheshead.org.uk
SUMMARY:Whole School Christmas Dinner
DESCRIPTION:
URL:https://bircheshead.org.uk/event/whole-school-christmas-dinner/
ATTACH;FMTTYPE=image/jpeg:https://bircheshead.org.uk/wp-content/uploads/2022/09/FF-BA-_CW_8991.jpg
END:VEVENT
BEGIN:VEVENT
DTSTART;VALUE=DATE:20221216
DTEND;VALUE=DATE:20221217
DTSTAMP:20260422T115537
CREATED:20221010T134725Z
LAST-MODIFIED:20221010T134725Z
UID:9851-1671148800-1671235199@bircheshead.org.uk
SUMMARY:Students finish for Christmas Holiday
DESCRIPTION:
URL:https://bircheshead.org.uk/event/students-finish-for-christmas-holiday/
ATTACH;FMTTYPE=image/jpeg:https://bircheshead.org.uk/wp-content/uploads/2022/09/FF-BA-_CW_9204-scaled.jpg
END:VEVENT
END:VCALENDAR