BEGIN:VCALENDAR
VERSION:2.0
PRODID:-//Birches Head Academy - ECPv6.15.20//NONSGML v1.0//EN
CALSCALE:GREGORIAN
METHOD:PUBLISH
X-ORIGINAL-URL:https://bircheshead.org.uk
X-WR-CALDESC:Events for Birches Head Academy
REFRESH-INTERVAL;VALUE=DURATION:PT1H
X-Robots-Tag:noindex
X-PUBLISHED-TTL:PT1H
BEGIN:VTIMEZONE
TZID:UTC
BEGIN:STANDARD
TZOFFSETFROM:+0000
TZOFFSETTO:+0000
TZNAME:UTC
DTSTART:20210101T000000
END:STANDARD
END:VTIMEZONE
BEGIN:VEVENT
DTSTART;VALUE=DATE:20221019
DTEND;VALUE=DATE:20221020
DTSTAMP:20260422T160551
CREATED:20221010T131230Z
LAST-MODIFIED:20221017T084554Z
UID:9843-1666137600-1666223999@bircheshead.org.uk
SUMMARY:Welcome to Key Stage 4 Evening
DESCRIPTION:The welcome to KS4 evening is this Wednesday 19th October starting at 5.30pm There will be a presentation from the year group leadership team\, followed by an opportunity to talk with leaders from different subjects about the KS4 courses. Please arrive at main reception at 5.15pm.
URL:https://bircheshead.org.uk/event/welcome-to-key-stage-4-evening/
ATTACH;FMTTYPE=image/jpeg:https://bircheshead.org.uk/wp-content/uploads/2022/09/FF-BA-_CW_9762.jpg
END:VEVENT
BEGIN:VEVENT
DTSTART;VALUE=DATE:20221021
DTEND;VALUE=DATE:20221022
DTSTAMP:20260422T160551
CREATED:20221010T134236Z
LAST-MODIFIED:20221010T134236Z
UID:9845-1666310400-1666396799@bircheshead.org.uk
SUMMARY:INSET Day
DESCRIPTION:
URL:https://bircheshead.org.uk/event/inset-day-5/
ATTACH;FMTTYPE=image/jpeg:https://bircheshead.org.uk/wp-content/uploads/2022/09/FF-BA-_CW_9580-scaled.jpg
END:VEVENT
BEGIN:VEVENT
DTSTART;VALUE=DATE:20221024
DTEND;VALUE=DATE:20221029
DTSTAMP:20260422T160551
CREATED:20221010T134320Z
LAST-MODIFIED:20221010T134320Z
UID:9847-1666569600-1667001599@bircheshead.org.uk
SUMMARY:Half Term
DESCRIPTION:
URL:https://bircheshead.org.uk/event/half-term-5/
ATTACH;FMTTYPE=image/jpeg:https://bircheshead.org.uk/wp-content/uploads/2022/09/FF-BA-_CW_9536.jpg
END:VEVENT
END:VCALENDAR