BEGIN:VCALENDAR
VERSION:2.0
PRODID:-//Birches Head Academy - ECPv6.15.20//NONSGML v1.0//EN
CALSCALE:GREGORIAN
METHOD:PUBLISH
X-WR-CALNAME:Birches Head Academy
X-ORIGINAL-URL:https://bircheshead.org.uk
X-WR-CALDESC:Events for Birches Head Academy
REFRESH-INTERVAL;VALUE=DURATION:PT1H
X-Robots-Tag:noindex
X-PUBLISHED-TTL:PT1H
BEGIN:VTIMEZONE
TZID:UTC
BEGIN:STANDARD
TZOFFSETFROM:+0000
TZOFFSETTO:+0000
TZNAME:UTC
DTSTART:20210101T000000
END:STANDARD
END:VTIMEZONE
BEGIN:VEVENT
DTSTART;VALUE=DATE:20220530
DTEND;VALUE=DATE:20220604
DTSTAMP:20260422T215434
CREATED:20210428T105945Z
LAST-MODIFIED:20210428T105945Z
UID:7575-1653868800-1654300799@bircheshead.org.uk
SUMMARY:Half Term
DESCRIPTION:
URL:https://bircheshead.org.uk/event/half-term-4/
ATTACH;FMTTYPE=image/jpeg:https://bircheshead.org.uk/wp-content/uploads/2021/02/events-logo-2.jpg
END:VEVENT
BEGIN:VEVENT
DTSTART;VALUE=DATE:20220606
DTEND;VALUE=DATE:20220607
DTSTAMP:20260422T215434
CREATED:20210428T110040Z
LAST-MODIFIED:20210428T110040Z
UID:7577-1654473600-1654559999@bircheshead.org.uk
SUMMARY:Students Return
DESCRIPTION:
URL:https://bircheshead.org.uk/event/students-return-6/
ATTACH;FMTTYPE=image/jpeg:https://bircheshead.org.uk/wp-content/uploads/2021/02/events-logo-2.jpg
END:VEVENT
END:VCALENDAR