BEGIN:VCALENDAR
VERSION:2.0
PRODID:-//Birches Head Academy - ECPv6.15.20//NONSGML v1.0//EN
CALSCALE:GREGORIAN
METHOD:PUBLISH
X-ORIGINAL-URL:https://bircheshead.org.uk
X-WR-CALDESC:Events for Birches Head Academy
REFRESH-INTERVAL;VALUE=DURATION:PT1H
X-Robots-Tag:noindex
X-PUBLISHED-TTL:PT1H
BEGIN:VTIMEZONE
TZID:UTC
BEGIN:STANDARD
TZOFFSETFROM:+0000
TZOFFSETTO:+0000
TZNAME:UTC
DTSTART:20210101T000000
END:STANDARD
END:VTIMEZONE
BEGIN:VEVENT
DTSTART;VALUE=DATE:20220408
DTEND;VALUE=DATE:20220409
DTSTAMP:20260423T010445
CREATED:20210428T105245Z
LAST-MODIFIED:20210428T105245Z
UID:7567-1649376000-1649462399@bircheshead.org.uk
SUMMARY:Spring Break Up
DESCRIPTION:
URL:https://bircheshead.org.uk/event/spring-break-up/
ATTACH;FMTTYPE=image/jpeg:https://bircheshead.org.uk/wp-content/uploads/2021/02/events-logo-2.jpg
END:VEVENT
BEGIN:VEVENT
DTSTART;VALUE=DATE:20220425
DTEND;VALUE=DATE:20220426
DTSTAMP:20260423T010445
CREATED:20210428T105403Z
LAST-MODIFIED:20210428T105403Z
UID:7569-1650844800-1650931199@bircheshead.org.uk
SUMMARY:Students Return
DESCRIPTION:
URL:https://bircheshead.org.uk/event/students-return-5/
ATTACH;FMTTYPE=image/jpeg:https://bircheshead.org.uk/wp-content/uploads/2021/02/events-logo-2.jpg
END:VEVENT
END:VCALENDAR