BEGIN:VCALENDAR
VERSION:2.0
PRODID:-//Birches Head Academy - ECPv6.15.20//NONSGML v1.0//EN
CALSCALE:GREGORIAN
METHOD:PUBLISH
X-WR-CALNAME:Birches Head Academy
X-ORIGINAL-URL:https://bircheshead.org.uk
X-WR-CALDESC:Events for Birches Head Academy
REFRESH-INTERVAL;VALUE=DURATION:PT1H
X-Robots-Tag:noindex
X-PUBLISHED-TTL:PT1H
BEGIN:VTIMEZONE
TZID:UTC
BEGIN:STANDARD
TZOFFSETFROM:+0000
TZOFFSETTO:+0000
TZNAME:UTC
DTSTART:20200101T000000
END:STANDARD
END:VTIMEZONE
BEGIN:VEVENT
DTSTART;VALUE=DATE:20211101
DTEND;VALUE=DATE:20211102
DTSTAMP:20260423T080257
CREATED:20210428T104239Z
LAST-MODIFIED:20210428T104239Z
UID:7555-1635724800-1635811199@bircheshead.org.uk
SUMMARY:Students Return
DESCRIPTION:
URL:https://bircheshead.org.uk/event/students-return-2/
ATTACH;FMTTYPE=image/jpeg:https://bircheshead.org.uk/wp-content/uploads/2021/02/events-logo-2.jpg
END:VEVENT
BEGIN:VEVENT
DTSTART;VALUE=DATE:20211111
DTEND;VALUE=DATE:20211112
DTSTAMP:20260423T080257
CREATED:20211028T140338Z
LAST-MODIFIED:20211028T140620Z
UID:8302-1636588800-1636675199@bircheshead.org.uk
SUMMARY:Year 8 and 9 Review Day - Home Learning - All Years
DESCRIPTION:Review day for Years 8 and 9.  Guide and letter can be found in the letters section of the website\, under October letters. \nHome learning will be completed by all other students – details will be given to students in the days prior\, by class teachers.
URL:https://bircheshead.org.uk/event/year-8-and-9-review-day-home-learning-all-years/
LOCATION:Birches Head Academy\, Birches Head Academy\, Stoke-on-Trent\, ST2 8DD
ATTACH;FMTTYPE=image/jpeg:https://bircheshead.org.uk/wp-content/uploads/2021/02/events-logo-2.jpg
END:VEVENT
END:VCALENDAR