BEGIN:VCALENDAR
VERSION:2.0
PRODID:-//Birches Head Academy - ECPv6.15.20//NONSGML v1.0//EN
CALSCALE:GREGORIAN
METHOD:PUBLISH
X-WR-CALNAME:Birches Head Academy
X-ORIGINAL-URL:https://bircheshead.org.uk
X-WR-CALDESC:Events for Birches Head Academy
REFRESH-INTERVAL;VALUE=DURATION:PT1H
X-Robots-Tag:noindex
X-PUBLISHED-TTL:PT1H
BEGIN:VTIMEZONE
TZID:UTC
BEGIN:STANDARD
TZOFFSETFROM:+0000
TZOFFSETTO:+0000
TZNAME:UTC
DTSTART:20200101T000000
END:STANDARD
END:VTIMEZONE
BEGIN:VEVENT
DTSTART;VALUE=DATE:20211022
DTEND;VALUE=DATE:20211023
DTSTAMP:20260423T092306
CREATED:20210428T104046Z
LAST-MODIFIED:20210428T104046Z
UID:7551-1634860800-1634947199@bircheshead.org.uk
SUMMARY:Students Break Up
DESCRIPTION:
URL:https://bircheshead.org.uk/event/students-break-up-2/
ATTACH;FMTTYPE=image/jpeg:https://bircheshead.org.uk/wp-content/uploads/2021/02/events-logo-2.jpg
END:VEVENT
BEGIN:VEVENT
DTSTART;VALUE=DATE:20211025
DTEND;VALUE=DATE:20211030
DTSTAMP:20260423T092306
CREATED:20210428T104136Z
LAST-MODIFIED:20210428T104136Z
UID:7553-1635120000-1635551999@bircheshead.org.uk
SUMMARY:Half Term
DESCRIPTION:
URL:https://bircheshead.org.uk/event/half-term-2/
ATTACH;FMTTYPE=image/jpeg:https://bircheshead.org.uk/wp-content/uploads/2021/02/events-logo-2.jpg
END:VEVENT
END:VCALENDAR