BEGIN:VCALENDAR
VERSION:2.0
PRODID:-//Birches Head Academy - ECPv6.15.20//NONSGML v1.0//EN
CALSCALE:GREGORIAN
METHOD:PUBLISH
X-ORIGINAL-URL:https://bircheshead.org.uk
X-WR-CALDESC:Events for Birches Head Academy
REFRESH-INTERVAL;VALUE=DURATION:PT1H
X-Robots-Tag:noindex
X-PUBLISHED-TTL:PT1H
BEGIN:VTIMEZONE
TZID:UTC
BEGIN:STANDARD
TZOFFSETFROM:+0000
TZOFFSETTO:+0000
TZNAME:UTC
DTSTART:20200101T000000
END:STANDARD
END:VTIMEZONE
BEGIN:VEVENT
DTSTART;VALUE=DATE:20210901
DTEND;VALUE=DATE:20210902
DTSTAMP:20260423T104600
CREATED:20210428T103744Z
LAST-MODIFIED:20210428T103744Z
UID:7545-1630454400-1630540799@bircheshead.org.uk
SUMMARY:INSET Day
DESCRIPTION:
URL:https://bircheshead.org.uk/event/inset-day-4/
ATTACH;FMTTYPE=image/jpeg:https://bircheshead.org.uk/wp-content/uploads/2021/02/events-logo-2.jpg
END:VEVENT
BEGIN:VEVENT
DTSTART;VALUE=DATE:20210902
DTEND;VALUE=DATE:20210903
DTSTAMP:20260423T104600
CREATED:20210428T103839Z
LAST-MODIFIED:20210428T103839Z
UID:7547-1630540800-1630627199@bircheshead.org.uk
SUMMARY:Year 7 Students Return
DESCRIPTION:
URL:https://bircheshead.org.uk/event/year-7-students-return/
ATTACH;FMTTYPE=image/jpeg:https://bircheshead.org.uk/wp-content/uploads/2021/02/events-logo-2.jpg
END:VEVENT
BEGIN:VEVENT
DTSTART;VALUE=DATE:20210903
DTEND;VALUE=DATE:20210904
DTSTAMP:20260423T104600
CREATED:20210428T103932Z
LAST-MODIFIED:20210428T103932Z
UID:7549-1630627200-1630713599@bircheshead.org.uk
SUMMARY:Whole School Return
DESCRIPTION:
URL:https://bircheshead.org.uk/event/whole-school-return/
ATTACH;FMTTYPE=image/jpeg:https://bircheshead.org.uk/wp-content/uploads/2021/02/events-logo-2.jpg
END:VEVENT
END:VCALENDAR