BEGIN:VCALENDAR
VERSION:2.0
PRODID:-//Birches Head Academy - ECPv6.15.20//NONSGML v1.0//EN
CALSCALE:GREGORIAN
METHOD:PUBLISH
X-WR-CALNAME:Birches Head Academy
X-ORIGINAL-URL:https://bircheshead.org.uk
X-WR-CALDESC:Events for Birches Head Academy
REFRESH-INTERVAL;VALUE=DURATION:PT1H
X-Robots-Tag:noindex
X-PUBLISHED-TTL:PT1H
BEGIN:VTIMEZONE
TZID:UTC
BEGIN:STANDARD
TZOFFSETFROM:+0000
TZOFFSETTO:+0000
TZNAME:UTC
DTSTART:20230101T000000
END:STANDARD
END:VTIMEZONE
BEGIN:VEVENT
DTSTART;VALUE=DATE:20240704
DTEND;VALUE=DATE:20240705
DTSTAMP:20260421T093532
CREATED:20240207T114716Z
LAST-MODIFIED:20240207T114716Z
UID:13356-1720051200-1720137599@bircheshead.org.uk
SUMMARY:New Year 7 Transition Day
DESCRIPTION:
URL:https://bircheshead.org.uk/event/new-year-7-transition-day-2/
ATTACH;FMTTYPE=image/jpeg:https://bircheshead.org.uk/wp-content/uploads/2024/02/FF-BA-_CW_8786.jpg
END:VEVENT
BEGIN:VEVENT
DTSTART;TZID=UTC:20240704T080000
DTEND;TZID=UTC:20240704T170000
DTSTAMP:20260421T093532
CREATED:20240207T114830Z
LAST-MODIFIED:20240207T114830Z
UID:13358-1720080000-1720112400@bircheshead.org.uk
SUMMARY:Rewards Assemblies
DESCRIPTION:
URL:https://bircheshead.org.uk/event/rewards-assemblies-2/
ATTACH;FMTTYPE=image/jpeg:https://bircheshead.org.uk/wp-content/uploads/2024/02/FF-BA-_CW_0766.jpg
END:VEVENT
END:VCALENDAR