BEGIN:VCALENDAR
VERSION:2.0
PRODID:-//Birches Head Academy - ECPv6.15.20//NONSGML v1.0//EN
CALSCALE:GREGORIAN
METHOD:PUBLISH
X-WR-CALNAME:Birches Head Academy
X-ORIGINAL-URL:https://bircheshead.org.uk
X-WR-CALDESC:Events for Birches Head Academy
REFRESH-INTERVAL;VALUE=DURATION:PT1H
X-Robots-Tag:noindex
X-PUBLISHED-TTL:PT1H
BEGIN:VTIMEZONE
TZID:UTC
BEGIN:STANDARD
TZOFFSETFROM:+0000
TZOFFSETTO:+0000
TZNAME:UTC
DTSTART:20220101T000000
END:STANDARD
END:VTIMEZONE
BEGIN:VEVENT
DTSTART;VALUE=DATE:20231207
DTEND;VALUE=DATE:20231208
DTSTAMP:20260421T200141
CREATED:20231205T094116Z
LAST-MODIFIED:20231205T094846Z
UID:13027-1701907200-1701993599@bircheshead.org.uk
SUMMARY:Christmas Jumper Day
DESCRIPTION:
URL:https://bircheshead.org.uk/event/christmas-jumper-day/
ATTACH;FMTTYPE=image/jpeg:https://bircheshead.org.uk/wp-content/uploads/2023/12/c5eefc91-15b6-4844-85e1-530cab5cacd7_CJD23-01JustGiving_Opengraph_1200x630.jpg
END:VEVENT
END:VCALENDAR