BEGIN:VCALENDAR
VERSION:2.0
PRODID:-//Birches Head Academy - ECPv6.15.20//NONSGML v1.0//EN
CALSCALE:GREGORIAN
METHOD:PUBLISH
X-ORIGINAL-URL:https://bircheshead.org.uk
X-WR-CALDESC:Events for Birches Head Academy
REFRESH-INTERVAL;VALUE=DURATION:PT1H
X-Robots-Tag:noindex
X-PUBLISHED-TTL:PT1H
BEGIN:VTIMEZONE
TZID:UTC
BEGIN:STANDARD
TZOFFSETFROM:+0000
TZOFFSETTO:+0000
TZNAME:UTC
DTSTART:20220101T000000
END:STANDARD
END:VTIMEZONE
BEGIN:VEVENT
DTSTART;TZID=UTC:20230914T180000
DTEND;TZID=UTC:20230914T200000
DTSTAMP:20260422T002142
CREATED:20230821T114506Z
LAST-MODIFIED:20230908T134435Z
UID:12436-1694714400-1694721600@bircheshead.org.uk
SUMMARY:Year 7 Settling in Evening
DESCRIPTION:As part of the transition to Birches Head Academy we would like to invite you to our Year 7 Settling in Evening\, which is being held on Thursday 14th September to discuss how proud we are of the pupil’s and to explain the ‘Birches Head Way’\, how we operate and how we have a consistent culture of high expectations. The first presentation will begin at 6pm in the main hall and the second presentation will begin at 6.45pm in the main hall. \nSee the full letter here 
URL:https://bircheshead.org.uk/event/open-mornings-2/
ATTACH;FMTTYPE=image/jpeg:https://bircheshead.org.uk/wp-content/uploads/2023/02/FF-BA-_CW_8832.jpg
END:VEVENT
END:VCALENDAR