BEGIN:VCALENDAR
VERSION:2.0
PRODID:-//Birches Head Academy - ECPv6.15.20//NONSGML v1.0//EN
CALSCALE:GREGORIAN
METHOD:PUBLISH
X-ORIGINAL-URL:https://bircheshead.org.uk
X-WR-CALDESC:Events for Birches Head Academy
REFRESH-INTERVAL;VALUE=DURATION:PT1H
X-Robots-Tag:noindex
X-PUBLISHED-TTL:PT1H
BEGIN:VTIMEZONE
TZID:UTC
BEGIN:STANDARD
TZOFFSETFROM:+0000
TZOFFSETTO:+0000
TZNAME:UTC
DTSTART:20210101T000000
END:STANDARD
END:VTIMEZONE
BEGIN:VEVENT
DTSTART;TZID=UTC:20220926T083000
DTEND;TZID=UTC:20220929T094500
DTSTAMP:20260422T172909
CREATED:20220913T102245Z
LAST-MODIFIED:20220913T102245Z
UID:9344-1664181000-1664444700@bircheshead.org.uk
SUMMARY:Open Mornings
DESCRIPTION:We will be running Open Morning Tours from From Monday 26th September – Thursday 29th September 2022. Book a Tour today to attend one of our Open Mornings –https://www.eventbrite.com/cc/open-morning-tours-1161859 \nFor further information about our Open Events visit: https://bircheshead.org.uk/join-bha/  \n 
URL:https://bircheshead.org.uk/event/open-mornings/
ATTACH;FMTTYPE=image/jpeg:https://bircheshead.org.uk/wp-content/uploads/2022/09/FF-BA-_CW_8991.jpg
END:VEVENT
END:VCALENDAR